BEGIN:VCALENDAR
VERSION:2.0
PRODID:-//wp-events-plugin.com//7.2.3.1//EN
BEGIN:VEVENT
UID:17@news-wittlich.de
DTSTART:20240531T183000Z
DTEND:20240531T223000Z
DTSTAMP:20240528T143036Z
URL:https://www.news-wittlich.de/Veranstaltungen/leon-buettner-trio-wittli
 cher-eventsommer-2024/
SUMMARY:Leon Büttner Trio - Wittlicher Eventsommer 2024
DESCRIPTION:19.30 Uhr Leon Büttner Trio (Blues-Rock-Band)\nLeon Büttner 
 Trio - „Stand Up“ für eine neue Generation Blues-Rock!\n\n\n\nDas „
 Leon Büttner Trio“ steht für ehrlichen Blues-Rock und die Leidenschaft
  für handgemachte Musik.\n\n\nLeon Büttner(Git./Voc.)\, Hannes Merten (B
 ass) und Max Hofmann (Drums) erzeugen funkige Grooves und eine rohe Energi
 e\, die jedes Publikum mit sich reißt. Mit emotionsgeladenen Gitarrensoli
  und virtuosen Arrangements tritt diese neue Generation die Nachfolge ihre
 r Vorfahren des Blues und Rock an und\nvermischt ihre Wurzeln mit Einflüs
 sen aus Funk &amp\; Soul.\nBlues-Rock im Old-School-Style mit frischem Win
 d und einer Menge roher ungezähmter Energie erwartet die Zuschauer:innen 
 mit diesem Power-Paket!\n\n\n\n\n&nbsp\;
ATTACH;FMTTYPE=image/jpeg:https://www.news-wittlich.de/wp-content/uploads/
 2021/07/audience-1853662_1920.jpg
CATEGORIES:Allgemein
LOCATION:Platz an der Lieser\, Feldstraße\, Wittlich\, Rheinland-Pfalz\, 5
 4516\, Landkreis Bernkastel-Wittlich\, Deutschland
GEO:49.984177;6.886405
X-APPLE-STRUCTURED-LOCATION;VALUE=URI;X-ADDRESS=Feldstraße\, Wittlich\, Rh
 einland-Pfalz\, 54516\, Landkreis Bernkastel-Wittlich\, Deutschland;X-APPL
 E-RADIUS=100;X-TITLE=Platz an der Lieser:geo:49.984177,6.886405
END:VEVENT
END:VCALENDAR